BEGIN:VCALENDAR
VERSION:2.0
PRODID:-//Brinda Yoga Classes - Yoga, Power Yoga and Total-Body Workouts - ECPv6.15.20//NONSGML v1.0//EN
CALSCALE:GREGORIAN
METHOD:PUBLISH
X-ORIGINAL-URL:https://brindayogaclasses.com
X-WR-CALDESC:Events for Brinda Yoga Classes - Yoga, Power Yoga and Total-Body Workouts
REFRESH-INTERVAL;VALUE=DURATION:PT1H
X-Robots-Tag:noindex
X-PUBLISHED-TTL:PT1H
BEGIN:VTIMEZONE
TZID:Europe/London
BEGIN:DAYLIGHT
TZOFFSETFROM:+0000
TZOFFSETTO:+0100
TZNAME:BST
DTSTART:20250330T010000
END:DAYLIGHT
BEGIN:STANDARD
TZOFFSETFROM:+0100
TZOFFSETTO:+0000
TZNAME:GMT
DTSTART:20251026T010000
END:STANDARD
BEGIN:DAYLIGHT
TZOFFSETFROM:+0000
TZOFFSETTO:+0100
TZNAME:BST
DTSTART:20260329T010000
END:DAYLIGHT
BEGIN:STANDARD
TZOFFSETFROM:+0100
TZOFFSETTO:+0000
TZNAME:GMT
DTSTART:20261025T010000
END:STANDARD
BEGIN:DAYLIGHT
TZOFFSETFROM:+0000
TZOFFSETTO:+0100
TZNAME:BST
DTSTART:20270328T010000
END:DAYLIGHT
BEGIN:STANDARD
TZOFFSETFROM:+0100
TZOFFSETTO:+0000
TZNAME:GMT
DTSTART:20271031T010000
END:STANDARD
BEGIN:DAYLIGHT
TZOFFSETFROM:+0000
TZOFFSETTO:+0100
TZNAME:BST
DTSTART:20280326T010000
END:DAYLIGHT
BEGIN:STANDARD
TZOFFSETFROM:+0100
TZOFFSETTO:+0000
TZNAME:GMT
DTSTART:20281029T010000
END:STANDARD
BEGIN:DAYLIGHT
TZOFFSETFROM:+0000
TZOFFSETTO:+0100
TZNAME:BST
DTSTART:20290325T010000
END:DAYLIGHT
BEGIN:STANDARD
TZOFFSETFROM:+0100
TZOFFSETTO:+0000
TZNAME:GMT
DTSTART:20291028T010000
END:STANDARD
BEGIN:DAYLIGHT
TZOFFSETFROM:+0000
TZOFFSETTO:+0100
TZNAME:BST
DTSTART:20300331T010000
END:DAYLIGHT
BEGIN:STANDARD
TZOFFSETFROM:+0100
TZOFFSETTO:+0000
TZNAME:GMT
DTSTART:20301027T010000
END:STANDARD
BEGIN:DAYLIGHT
TZOFFSETFROM:+0000
TZOFFSETTO:+0100
TZNAME:BST
DTSTART:20310330T010000
END:DAYLIGHT
BEGIN:STANDARD
TZOFFSETFROM:+0100
TZOFFSETTO:+0000
TZNAME:GMT
DTSTART:20311026T010000
END:STANDARD
END:VTIMEZONE
BEGIN:VEVENT
DTSTART;TZID=Europe/London:20260401T080000
DTEND;TZID=Europe/London:20300401T170000
DTSTAMP:20260421T101252
CREATED:20260321T120044Z
LAST-MODIFIED:20260415T200504Z
UID:1648-1775030400-1901293200@brindayogaclasses.com
SUMMARY:Online Meditation Event
DESCRIPTION:Online Meditation Event\nTake a Break. Clear Your Mind. \nLife gets busy. Between work\, responsibilities and constant screen time our minds rarely get a break. \nThis online meditation event helps you slow down and reconnect with yourself from home. \nNo travel. No prep. Just a quiet. Some time for yourself. \nWhat This Session Is About?\nThis guided session helps you relax and let go of stress. \nYou don’t need experience. The process is easy and suitable for anyone. \nDuring the session you’ll do some calming practices like: \n\nGentle ways to relax your body\nSimple breathing techniques\nA guided meditation to quiet your mind\n\nBy the end you’ll likely feel more at ease\, clearer. Refreshed. \nWhy Join This Meditation Event?\nMost people carry stress without noticing. Over time it affects focus\, energy and well-being. \nThis session gives you a break from that cycle even if its just for a bit. \nYou might notice benefits like: \n\nStress and anxiety\nA calmer mind\nBetter focus\nImproved emotional balance\nA feeling of lightness\n\nWho Can Join?\nThis session is open to everyone. \n\nWorking professionals\nStudents\nBusiness owners\nAnyone who wants peace\n\nNo meditation experience is needed. \nEvent Details\n\nMode: Online\nDuration: 30 to 45 minutes\nWhat you need: A quiet place to sit\n\nHow to Join\nYou can register or contact us. You’ll get the joining details. \nTake a break\, for yourself. Sometimes that’s all it takes to feel better.
URL:https://brindayogaclasses.com/event/online_meditation_event/
CATEGORIES:Meditation
ATTACH;FMTTYPE=image/png:https://brindayogaclasses.com/wp-content/uploads/2019/07/ChatGPT-Image-Apr-16-2026-01_11_35-AM.png
ORGANIZER;CN="Vaishali Modi":MAILTO:vhmodi9@gmail.com
END:VEVENT
END:VCALENDAR